BEGIN:VCALENDAR
VERSION:2.0
PRODID:-//Plumstead GOP, Bucks County PA, USA - ECPv6.15.20//NONSGML v1.0//EN
CALSCALE:GREGORIAN
METHOD:PUBLISH
X-WR-CALNAME:Plumstead GOP, Bucks County PA, USA
X-ORIGINAL-URL:https://plumsteadgop.org
X-WR-CALDESC:Events for Plumstead GOP, Bucks County PA, USA
REFRESH-INTERVAL;VALUE=DURATION:PT1H
X-Robots-Tag:noindex
X-PUBLISHED-TTL:PT1H
BEGIN:VTIMEZONE
TZID:America/New_York
BEGIN:DAYLIGHT
TZOFFSETFROM:-0500
TZOFFSETTO:-0400
TZNAME:EDT
DTSTART:20240310T070000
END:DAYLIGHT
BEGIN:STANDARD
TZOFFSETFROM:-0400
TZOFFSETTO:-0500
TZNAME:EST
DTSTART:20241103T060000
END:STANDARD
BEGIN:DAYLIGHT
TZOFFSETFROM:-0500
TZOFFSETTO:-0400
TZNAME:EDT
DTSTART:20250309T070000
END:DAYLIGHT
BEGIN:STANDARD
TZOFFSETFROM:-0400
TZOFFSETTO:-0500
TZNAME:EST
DTSTART:20251102T060000
END:STANDARD
BEGIN:DAYLIGHT
TZOFFSETFROM:-0500
TZOFFSETTO:-0400
TZNAME:EDT
DTSTART:20260308T070000
END:DAYLIGHT
BEGIN:STANDARD
TZOFFSETFROM:-0400
TZOFFSETTO:-0500
TZNAME:EST
DTSTART:20261101T060000
END:STANDARD
END:VTIMEZONE
BEGIN:VEVENT
DTSTART;TZID=America/New_York:20250505T080000
DTEND;TZID=America/New_York:20250505T160000
DTSTAMP:20260421T044543
CREATED:20250102T023929Z
LAST-MODIFIED:20250102T023929Z
UID:2917-1746432000-1746460800@plumsteadgop.org
SUMMARY:2025 - Last Day to Register to Vote in the Primary Election
DESCRIPTION:You must REGISTER to vote or CHANGE your voter registration information in the County Board of Election Office OR on-line no later than 4:00PM today.
URL:https://plumsteadgop.org/event/2025-last-day-to-register-to-vote-in-the-primary-election/
CATEGORIES:2025
END:VEVENT
END:VCALENDAR